BEGIN:VCALENDAR
VERSION:2.0
PRODID:EVENTFROG//EVENT//ICAL
BEGIN:VEVENT
UID:20260424T083451Z-7452969620963615711@eventfrog.de
DTSTAMP:20260424T083451Z
DTSTART:20260706T170000Z
SUMMARY:Sommerständli mit den Chüelibach Musikanten
DESCRIPTION:Sommerabend auf unserer Terrasse mit musikalischer Unterhaltung mit den Chüelibach Musikanten\n\nhttps://eventfrog.de/de/p/konzerte/chor/sommerstaendli-mit-den-chueelibach-musikanten-7452969620963615711.html
LOCATION:Gasthof Sternen
GEO:47.002141;7.270671
URL:https://eventfrog.de/de/p/konzerte/chor/sommerstaendli-mit-den-chueelibach-musikanten-7452969620963615711.html
END:VEVENT
END:VCALENDAR