BEGIN:VCALENDAR
VERSION:2.0
PRODID:EVENTFROG//EVENT//ICAL
BEGIN:VEVENT
UID:20260424T123705Z-7452971117176712529@eventfrog.de
DTSTAMP:20260424T123705Z
DTSTART:20261111T130000Z
SUMMARY:Thementag „Seltene Erden“
DESCRIPTION:Thementag "Seltene Erden" - Eine öffentliche Veranstaltung der Klasse für Naturwissenschaften und Medizin\n\nhttps://eventfrog.de/de/p/fuehrungen-vortraege/tagungen-kolloquien/thementag-seltene-erden-7452971117176712529.html
LOCATION:Nordrhein-Westfälische Akademie der Wissenschaften und der Künste
GEO:51.209491;6.771480
URL:https://eventfrog.de/de/p/fuehrungen-vortraege/tagungen-kolloquien/thementag-seltene-erden-7452971117176712529.html
END:VEVENT
END:VCALENDAR