BEGIN:VCALENDAR
VERSION:2.0
PRODID:EVENTFROG//EVENT//ICAL
BEGIN:VEVENT
UID:20260424T091047Z-7452977412340487778@eventfrog.de
DTSTAMP:20260424T091047Z
DTSTART:20260809T171500Z
DTEND:20260809T181500Z
SUMMARY:Floating & Soundbath in Winterthur / Schwimmbad Wolfensberg
DESCRIPTION:Calm down. Leg go. Simply receive. - Erlebe eine entspannende Floating & Soundbath-Session auf dem Paddleboard oder am Boden mit sanften Klängen. Schwimmbad Wolfensberg Winterthur\n\nhttps://eventfrog.de/de/p/gesundheit-spiritualitaet/gesundheit-wohlbefinden/floating-soundbath-in-winterthur-schwimmbad-wolfensberg-7452977412340487778.html
LOCATION:Schwimmbad Wolfensberg
GEO:47.513416;8.715379
URL:https://eventfrog.de/de/p/gesundheit-spiritualitaet/gesundheit-wohlbefinden/floating-soundbath-in-winterthur-schwimmbad-wolfensberg-7452977412340487778.html
END:VEVENT
END:VCALENDAR