BEGIN:VCALENDAR
VERSION:2.0
PRODID:EVENTFROG//EVENT//ICAL
BEGIN:VEVENT
UID:20260424T065529Z-7452984599536208591@eventfrog.de
DTSTAMP:20260424T065529Z
DTSTART:20260509T120000Z
DTEND:20260509T140000Z
SUMMARY:Handstand Workshop by Bodura
DESCRIPTION:Whether you’re just starting out or already working on your freestanding handstand, this session will help you take the next step.\n\nhttps://eventfrog.de/de/p/sport-fitness/fitness/handstand-workshop-by-bodura-7452984599536208591.html
LOCATION:Irchelpark
GEO:47.397491;8.541927
URL:https://eventfrog.de/de/p/sport-fitness/fitness/handstand-workshop-by-bodura-7452984599536208591.html
END:VEVENT
END:VCALENDAR