BEGIN:VCALENDAR
VERSION:2.0
PRODID:EVENTFROG//EVENT//ICAL
BEGIN:VEVENT
UID:20260424T084506Z-7452985004974422854@eventfrog.de
DTSTAMP:20260424T084506Z
DTSTART:20260912T063000Z
DTEND:20260912T090000Z
SUMMARY:Kinderartikelbörse von Wir junge Eltern Horw
DESCRIPTION:Kinderartikelbörse in Horw am 12. September 2026: Entdecke tolle Lieblingsstücke aus zweiter Hand – Kleidung, Spielsachen, Bücher, Umstandsmode, Kinderwagen und vieles mehr für Kinder und Jugendliche!\n\nhttps://eventfrog.de/de/p/maerkte/second-hand/kinderartikelboerse-von-wir-junge-eltern-horw-7452985004974422854.html
LOCATION:Horwerhalle, Horw
GEO:47.020214;8.307908
URL:https://eventfrog.de/de/p/maerkte/second-hand/kinderartikelboerse-von-wir-junge-eltern-horw-7452985004974422854.html
END:VEVENT
END:VCALENDAR