BEGIN:VCALENDAR
VERSION:2.0
PRODID:EVENTFROG//EVENT//ICAL
BEGIN:VEVENT
UID:20260424T083142Z-7452992034091070229@eventfrog.de
DTSTAMP:20260424T083142Z
DTSTART:20260509T120000Z
DTEND:20260509T210000Z
SUMMARY:Calanda Broncos vs. Winterthur Warriors / Herren & U19
DESCRIPTION:Tagesticket für die beiden Meisterschaftsspiele im Stadion Obere Au Chur!\n14.30 U19 Calanda Broncos vs. Winterthur Warriors\n18.00 Herren Calanda Broncos vs. Winterthur Warriors       \n\nhttps://eventfrog.de/de/p/sport-fitness/american-football/calanda-broncos-vs-winterthur-warriors-herren-u19-7452992034091070229.html
LOCATION:Sportanlagen Obere Au
GEO:46.849400;9.530740
URL:https://eventfrog.de/de/p/sport-fitness/american-football/calanda-broncos-vs-winterthur-warriors-herren-u19-7452992034091070229.html
END:VEVENT
END:VCALENDAR