BEGIN:VCALENDAR
VERSION:2.0
PRODID:EVENTFROG//EVENT//ICAL
BEGIN:VEVENT
UID:20260425T114515Z-7453003279707974007@eventfrog.de
DTSTAMP:20260425T114515Z
DTSTART:20260505T160000Z
DTEND:20260505T180000Z
SUMMARY:Biotechnology meets society: promises, risks, and ethical fr
DESCRIPTION:Biotechnology meets society\n\nhttps://eventfrog.de/de/p/wissenschaft-und-technik/biotechnology-meets-society-promises-risks-and-ethical-fr-7453003279707974007.html
LOCATION:UNIL, Lausanne, room tbd
GEO:46.521503;6.575467
URL:https://eventfrog.de/de/p/wissenschaft-und-technik/biotechnology-meets-society-promises-risks-and-ethical-fr-7453003279707974007.html
END:VEVENT
END:VCALENDAR