BEGIN:VCALENDAR
VERSION:2.0
PRODID:EVENTFROG//EVENT//ICAL
BEGIN:VEVENT
UID:20260425T231917Z-7453018958599325096@eventfrog.de
DTSTAMP:20260425T231917Z
DTSTART:20260914T070000Z
DTEND:20261019T150000Z
SUMMARY:200h Hatha & Vinyasa Yoga Ausbildung
DESCRIPTION:Die 5-wöchige Hatha & Vinyasa Yoga Ausbildung in Berlin oder online vermittelt Praxis, Philosophie und endet mit Prüfung.\n\nhttps://eventfrog.de/de/p/sport-fitness/yoga/200h-hatha-vinyasa-yoga-ausbildung-7453018958599325096.html
LOCATION:Yoga Labor Berlin
GEO:52.462984;13.509339
URL:https://eventfrog.de/de/p/sport-fitness/yoga/200h-hatha-vinyasa-yoga-ausbildung-7453018958599325096.html
END:VEVENT
END:VCALENDAR