BEGIN:VCALENDAR
VERSION:2.0
PRODID:EVENTFROG//EVENT//ICAL
BEGIN:VEVENT
UID:20260423T235240Z-7453022628258789480@eventfrog.de
DTSTAMP:20260423T235240Z
DTSTART:20260507T173000Z
SUMMARY:Konzert der Freunde Junger Musiker  mit dem Bernstein Trio
DESCRIPTION:Die Akademie und der Verein der Freunde Junger Musiker laden ein zum 307. Konzert. Es spielt das Bernstein Trio: Roman Tulchynsky (Violine), Marei Schibilsky (Violoncello) und Julia Stephan (Klavier).\n\nhttps://eventfrog.de/de/p/klassik-opern/klassik/konzert-der-freunde-junger-musiker-mit-dem-bernstein-trio-7453022628258789480.html
LOCATION:Akademie der Wissenschaften und der Literatur Mainz
GEO:49.976520;8.270489
URL:https://eventfrog.de/de/p/klassik-opern/klassik/konzert-der-freunde-junger-musiker-mit-dem-bernstein-trio-7453022628258789480.html
END:VEVENT
END:VCALENDAR