BEGIN:VCALENDAR
VERSION:2.0
PRODID:EVENTFROG//EVENT//ICAL
BEGIN:VEVENT
UID:20260426T015022Z-7453023216522538252@eventfrog.de
DTSTAMP:20260426T015022Z
DTSTART:20260427T170000Z
DTEND:20260427T181500Z
SUMMARY:Prag-Berlin-Festival  "ICH SITZE AN DEINEM LAGER"
DESCRIPTION:Eine musikalische Hommage an die Persönlichkeiten der Kunst, die im sog. Dritten Reich verfolgt, erniedrigt, deportiert und ermordet wurden.\n\nhttps://eventfrog.de/de/p/konzerte/weitere-musikrichtungen/prag-berlin-festival-ich-sitze-an-deinem-lager-7453023216522538252.html
LOCATION:Ev. Johanneskirche Schlachtensee
GEO:52.437917;13.218954
URL:https://eventfrog.de/de/p/konzerte/weitere-musikrichtungen/prag-berlin-festival-ich-sitze-an-deinem-lager-7453023216522538252.html
END:VEVENT
END:VCALENDAR