BEGIN:VCALENDAR
VERSION:2.0
PRODID:EVENTFROG//EVENT//ICAL
BEGIN:VEVENT
UID:20260424T065521Z-7453033571650920375@eventfrog.de
DTSTAMP:20260424T065521Z
DTSTART:20260605T180000Z
DTEND:20260605T213000Z
SUMMARY:AFSKY Support: Coldcell & IRR
DESCRIPTION:Afsky, ColdCell und IRR spielen atmosphärischen und vielseitigen Black Metal, der Licht und Dunkelheit musikalisch verbindet.\n\nhttps://eventfrog.de/de/p/konzerte/hard-rock-heavy-metal/afsky-support-coldcell-irr-7453033571650920375.html
LOCATION:Valhalla Basel
GEO:47.553158;7.585873
URL:https://eventfrog.de/de/p/konzerte/hard-rock-heavy-metal/afsky-support-coldcell-irr-7453033571650920375.html
END:VEVENT
END:VCALENDAR