BEGIN:VCALENDAR
VERSION:2.0
PRODID:EVENTFROG//EVENT//ICAL
BEGIN:VEVENT
UID:20260424T085443Z-7453036538579935439@eventfrog.de
DTSTAMP:20260424T085443Z
DTSTART:20260531T080000Z
DTEND:20260531T130000Z
SUMMARY:BRUNCH 'N BEATZ
DESCRIPTION:Veganer Brunch im Turbo Lama by Colorz Kitchen\n\nhttps://eventfrog.de/de/p/essen-trinken/brunch-n-beatz-7453036538579935439.html
LOCATION:Turbo Lama
GEO:46.968380;7.463793
URL:https://eventfrog.de/de/p/essen-trinken/brunch-n-beatz-7453036538579935439.html
END:VEVENT
END:VCALENDAR