BEGIN:VCALENDAR
VERSION:2.0
PRODID:EVENTFROG//EVENT//ICAL
BEGIN:VEVENT
UID:20260424T083409Z-7453046298381444849@eventfrog.de
DTSTAMP:20260424T083409Z
DTSTART:20260608T120000Z
DTEND:20260608T150000Z
SUMMARY:KI-Entdeckungsreise für ältere Einsteigerinnen und Einsteige
DESCRIPTION:Künstliche Intelligenz im Alltag und im Alter bewusst, sicher und gekonnt einsetzen\n\nhttps://eventfrog.de/de/p/kurse-seminare/computer-edv/ki-entdeckungsreise-fuer-aeltere-einsteigerinnen-und-einsteige-7453046298381444849.html
LOCATION:OST Ostschweizer Fachhochschule, Campus St.Gallen
GEO:47.423285;9.367650
URL:https://eventfrog.de/de/p/kurse-seminare/computer-edv/ki-entdeckungsreise-fuer-aeltere-einsteigerinnen-und-einsteige-7453046298381444849.html
END:VEVENT
END:VCALENDAR