BEGIN:VCALENDAR
VERSION:2.0
PRODID:EVENTFROG//EVENT//ICAL
BEGIN:VEVENT
UID:20260424T105819Z-7453048505516485037@eventfrog.de
DTSTAMP:20260424T105819Z
DTSTART:20260528T163000Z
DTEND:20260528T180000Z
SUMMARY:Umgang mit Persönlichkeitsstörungen
DESCRIPTION:PD Dr. med. Alexander Rapp erklärt Formen, Diagnose und Therapie von Persönlichkeitsstörungen in einem verständlichen Vortrag.\n\nhttps://eventfrog.de/de/p/diverses/umgang-mit-persoenlichkeitsstoerungen-7453048505516485037.html
LOCATION:Trafostrasse 1
GEO:47.527262;8.533176
URL:https://eventfrog.de/de/p/diverses/umgang-mit-persoenlichkeitsstoerungen-7453048505516485037.html
END:VEVENT
END:VCALENDAR