BEGIN:VCALENDAR
VERSION:2.0
PRODID:EVENTFROG//EVENT//ICAL
BEGIN:VEVENT
UID:20260424T230831Z-7453053870639460240@eventfrog.de
DTSTAMP:20260424T230831Z
DTSTART:20260530T133000Z
DTEND:20260530T150000Z
SUMMARY:Disput-Spielnachmittag: Wer argumentiert am besten?
DESCRIPTION:Spielen Sie das Disput-Spiel zum 500-Jahre-Badener-Disputation-Jubiläum in Badens Gastlokalen mit Anleitung von KSW-Schülern.\n\nhttps://eventfrog.de/de/p/freizeit-ausfluege/gruppen-spiele/disput-spielnachmittag-wer-argumentiert-am-besten-7453053870639460240.html
LOCATION:Baden
GEO:47.468505;8.297217
URL:https://eventfrog.de/de/p/freizeit-ausfluege/gruppen-spiele/disput-spielnachmittag-wer-argumentiert-am-besten-7453053870639460240.html
END:VEVENT
END:VCALENDAR