BEGIN:VCALENDAR
VERSION:2.0
PRODID:EVENTFROG//EVENT//ICAL
BEGIN:VEVENT
UID:20260424T215725Z-7453056270737627254@eventfrog.de
DTSTAMP:20260424T215725Z
DTSTART:20260606T180000Z
SUMMARY:Die Zwillinge
DESCRIPTION:Die Zwillinge\n\nhttps://eventfrog.de/de/p/theater-buehne/die-zwillinge-7453056270737627254.html
LOCATION:Casinotheater
GEO:47.499716;8.726641
URL:https://eventfrog.de/de/p/theater-buehne/die-zwillinge-7453056270737627254.html
END:VEVENT
END:VCALENDAR