BEGIN:VCALENDAR
VERSION:2.0
PRODID:EVENTFROG//EVENT//ICAL
BEGIN:VEVENT
UID:20260424T123515Z-7453060490832416505@eventfrog.de
DTSTAMP:20260424T123515Z
DTSTART:20260513T210000Z
DTEND:20260514T020000Z
SUMMARY:MI GENTE SPECIAL BARCELONA @JADE CLUB ZÜRICH
DESCRIPTION:MI GENTE & BARCELONA\n\nhttps://eventfrog.de/de/p/partys/latin-brasil/mi-gente-special-barcelona-jade-club-zuerich-7453060490832416505.html
LOCATION:Jade Club
GEO:47.371068;8.536337
URL:https://eventfrog.de/de/p/partys/latin-brasil/mi-gente-special-barcelona-jade-club-zuerich-7453060490832416505.html
END:VEVENT
END:VCALENDAR