BEGIN:VCALENDAR
VERSION:2.0
PRODID:EVENTFROG//EVENT//ICAL
BEGIN:VEVENT
UID:20260424T083510Z-7453064768917621323@eventfrog.de
DTSTAMP:20260424T083510Z
DTSTART:20260507T173000Z
DTEND:20260507T200000Z
SUMMARY:Old Time Jazz im Zentrum Höchweid
DESCRIPTION:The Mississippi Stompers spielen traditionellen New Orleans Jazz im Zentrum Höchweid Ebikon. Kein Reservation nötig, Essen vorab buchbar.\n\nhttps://eventfrog.de/de/p/konzerte/jazz-blues/old-time-jazz-im-zentrum-hoechweid-7453064768917621323.html
LOCATION:Zentrum Höchweid
GEO:47.083399;8.348945
URL:https://eventfrog.de/de/p/konzerte/jazz-blues/old-time-jazz-im-zentrum-hoechweid-7453064768917621323.html
END:VEVENT
END:VCALENDAR