BEGIN:VCALENDAR
VERSION:2.0
PRODID:EVENTFROG//EVENT//ICAL
BEGIN:VEVENT
UID:20260424T084509Z-7453077207142922205@eventfrog.de
DTSTAMP:20260424T084509Z
DTSTART:20260903T070000Z
DTEND:20260903T150000Z
SUMMARY:Erfolgreich Kunden und Projekte gewinnen
DESCRIPTION:Im Technopark Zürich lernen Teilnehmende methodisch, mit der Erst-Feld-Methode® systematisch mehr und bessere Kunden und Projekte zu gewinnen.\n\nhttps://eventfrog.de/de/p/kurse-seminare/coaching/erfolgreich-kunden-und-projekte-gewinnen-7453077207142922205.html
LOCATION:Technopark® Zürich
GEO:47.389900;8.516050
URL:https://eventfrog.de/de/p/kurse-seminare/coaching/erfolgreich-kunden-und-projekte-gewinnen-7453077207142922205.html
END:VEVENT
END:VCALENDAR