BEGIN:VCALENDAR
VERSION:2.0
PRODID:EVENTFROG//EVENT//ICAL
BEGIN:VEVENT
UID:20260424T090943Z-7453095217169724177@eventfrog.de
DTSTAMP:20260424T090943Z
DTSTART:20260523T140000Z
SUMMARY:Défilé de mode
DESCRIPTION:Défilé de mode organisé par 4 étudiants passionnés, mettant en valeur les talents locaux : photographes, mannequins et designers de la région neuchâteloise.\n\nhttps://eventfrog.de/fr/p/comedies-musicales-spectacles/defile-de-mode/defile-de-mode-7453095217169724177.html
LOCATION:Hôtel de ville
GEO:46.991772;6.930861
URL:https://eventfrog.de/fr/p/comedies-musicales-spectacles/defile-de-mode/defile-de-mode-7453095217169724177.html
END:VEVENT
END:VCALENDAR