BEGIN:VCALENDAR
VERSION:2.0
PRODID:EVENTFROG//EVENT//ICAL
BEGIN:VEVENT
UID:20260424T083251Z-7453097471914339706@eventfrog.de
DTSTAMP:20260424T083251Z
DTSTART:20260508T210000Z
DTEND:20260509T020000Z
SUMMARY:Made In The 90s
DESCRIPTION:Hits aus den 90er\n\nhttps://eventfrog.de/de/p/partys/90-s/made-in-the-90s-7453097471914339706.html
LOCATION:Kaufleuten Club
GEO:47.371008;8.535925
URL:https://eventfrog.de/de/p/partys/90-s/made-in-the-90s-7453097471914339706.html
END:VEVENT
END:VCALENDAR