BEGIN:VCALENDAR
VERSION:2.0
PRODID:EVENTFROG//EVENT//ICAL
BEGIN:VEVENT
UID:20260424T083143Z-7453108711797601385@eventfrog.de
DTSTAMP:20260424T083143Z
DTSTART:20260609T153000Z
DTEND:20260609T170000Z
SUMMARY:Held:innen des Alltags
DESCRIPTION:Generationentheaterprojekt\n\nhttps://eventfrog.de/de/p/theater-buehne/buehnenveranstaltung/held-innen-des-alltags-7453108711797601385.html
LOCATION:Aula Primarschule Rittergasse
GEO:47.555670;7.592404
URL:https://eventfrog.de/de/p/theater-buehne/buehnenveranstaltung/held-innen-des-alltags-7453108711797601385.html
END:VEVENT
END:VCALENDAR