BEGIN:VCALENDAR
VERSION:2.0
PRODID:EVENTFROG//EVENT//ICAL
BEGIN:VEVENT
UID:20260424T083321Z-7453116404419591772@eventfrog.de
DTSTAMP:20260424T083321Z
DTSTART:20260429T160000Z
DTEND:20260429T173000Z
SUMMARY:OpenClaw/Clawdbot Zürich Community
DESCRIPTION:We’re a local group of users coming together to share insights, trade tips, and talk through all things OpenClaw.\n\nhttps://eventfrog.de/en/p/science-and-technology/openclaw-clawdbot-zuerich-community-7453116404419591772.html
LOCATION:Reseda Zürich Lochergut
GEO:47.375734;8.517465
URL:https://eventfrog.de/en/p/science-and-technology/openclaw-clawdbot-zuerich-community-7453116404419591772.html
END:VEVENT
END:VCALENDAR