BEGIN:VCALENDAR
VERSION:2.0
PRODID:EVENTFROG//EVENT//ICAL
BEGIN:VEVENT
UID:20260424T083232Z-7453141480384809752@eventfrog.de
DTSTAMP:20260424T083232Z
DTSTART:20260511T113000Z
DTEND:20260511T150000Z
SUMMARY:Google Unternehmensprofil Workshop
DESCRIPTION:Der Workshop richtet sich an KMU, Selbständige und lokale Betriebe, die ihre Online Präsenz verbessern möchten.\n\nhttps://eventfrog.de/de/p/kurse-seminare/berufliche-bildung/google-unternehmensprofil-workshop-7453141480384809752.html
LOCATION:Gloria Coworking Lenzburg
GEO:47.393793;8.177580
URL:https://eventfrog.de/de/p/kurse-seminare/berufliche-bildung/google-unternehmensprofil-workshop-7453141480384809752.html
END:VEVENT
END:VCALENDAR