BEGIN:VCALENDAR
VERSION:2.0
PRODID:EVENTFROG//EVENT//ICAL
BEGIN:VEVENT
UID:20260424T083250Z-7453150479708588546@eventfrog.de
DTSTAMP:20260424T083250Z
DTSTART:20260516T210000Z
DTEND:20260517T040000Z
SUMMARY:Subtil w/ Kalabrese
DESCRIPTION:Kalabrese, Playlove und Sous Sol verwandeln den Kiosk mit Indie Dance, House und Deep House in einen Ort voller hypnotischer Rhythmen.\n\nhttps://eventfrog.de/de/p/partys/house-techno/subtil-w-kalabrese-7453150479708588546.html
LOCATION:Kiosk Luzern
GEO:47.053354;8.294209
URL:https://eventfrog.de/de/p/partys/house-techno/subtil-w-kalabrese-7453150479708588546.html
END:VEVENT
END:VCALENDAR