BEGIN:VCALENDAR
VERSION:2.0
PRODID:EVENTFROG//EVENT//ICAL
BEGIN:VEVENT
UID:20260424T080428Z-7453156431023364814@eventfrog.de
DTSTAMP:20260424T080428Z
DTSTART:20260510T090000Z
DTEND:20260510T101500Z
SUMMARY:Den wahren Sinn im Leben finden
DESCRIPTION:Sinn im Leben ; Lebenssinn ; Gott ; Liebe\nGottesdienst ECK\n\nhttps://eventfrog.de/de/p/gesundheit-spiritualitaet/spiritualitaet/den-wahren-sinn-im-leben-finden-7453156431023364814.html
LOCATION:Leonardo Hotel Mannheim City Center
GEO:49.484775;8.469867
URL:https://eventfrog.de/de/p/gesundheit-spiritualitaet/spiritualitaet/den-wahren-sinn-im-leben-finden-7453156431023364814.html
END:VEVENT
END:VCALENDAR