BEGIN:VCALENDAR
VERSION:2.0
PRODID:EVENTFROG//EVENT//ICAL
BEGIN:VEVENT
UID:20260424T100107Z-7453178432882495909@eventfrog.de
DTSTAMP:20260424T100107Z
DTSTART:20260516T150000Z
DTEND:20260516T193000Z
SUMMARY:Handpan Workshop & Dinner
DESCRIPTION:Workshop für Anfänger mit Abendessen.\nWir werden auf D-Kurd/D-Amara Handpan spielen. Wenn du eine hast, bring sie gerne mit (und auch den Handpan-Ständer, wenn du einen brauchst).\n\nhttps://eventfrog.de/en/p/courses-seminars/music-dance/handpan-workshop-dinner-7453178432882495909.html
LOCATION:Zürcher Gemeinschaftszentren GZ Oerlikon
GEO:47.407797;8.545748
URL:https://eventfrog.de/en/p/courses-seminars/music-dance/handpan-workshop-dinner-7453178432882495909.html
END:VEVENT
END:VCALENDAR