BEGIN:VCALENDAR
VERSION:2.0
PRODID:EVENTFROG//EVENT//ICAL
BEGIN:VEVENT
UID:20260424T083144Z-7453200288045911366@eventfrog.de
DTSTAMP:20260424T083144Z
DTSTART:20260514T220000Z
DTEND:20260920T215900Z
SUMMARY:Sonderausstellung: Spuren – Fährten, Frass und Federn
DESCRIPTION:Was lebt, hinterlässt Spuren. Doch was sagt eine Spur aus?\n\nhttps://eventfrog.de/de/p/wissenschaft-und-technik/sonderausstellung-spuren-faehrten-frass-und-federn-7453200288045911366.html
LOCATION:Naturmuseum St.Gallen
GEO:47.439470;9.408700
URL:https://eventfrog.de/de/p/wissenschaft-und-technik/sonderausstellung-spuren-faehrten-frass-und-federn-7453200288045911366.html
END:VEVENT
END:VCALENDAR