BEGIN:VCALENDAR
VERSION:2.0
PRODID:EVENTFROG//EVENT//ICAL
BEGIN:VEVENT
UID:20260424T083253Z-7453202034386330905@eventfrog.de
DTSTAMP:20260424T083253Z
DTSTART:20260701T160000Z
DTEND:20260701T180000Z
SUMMARY:Stadtführung
DESCRIPTION:Geführter Spaziergang durch die Geschichte der Stadt Gossau.\n\nhttps://eventfrog.de/de/p/wissenschaft-und-technik/stadtfuehrung-7453202034386330905.html
LOCATION:Gossau
GEO:47.417359;9.259289
URL:https://eventfrog.de/de/p/wissenschaft-und-technik/stadtfuehrung-7453202034386330905.html
END:VEVENT
END:VCALENDAR