BEGIN:VCALENDAR
VERSION:2.0
PRODID:EVENTFROG//EVENT//ICAL
BEGIN:VEVENT
UID:20260424T054404Z-7453202035577513248@eventfrog.de
DTSTAMP:20260424T054404Z
DTSTART:20260427T173000Z
DTEND:20260427T190000Z
SUMMARY:Wenn Nähe zur Belastung wird - Referat am Montag
DESCRIPTION:Öffentliche Referatreihe der Psychiatrie St.Gallen.\n\nhttps://eventfrog.de/de/p/wissenschaft-und-technik/wenn-naehe-zur-belastung-wird-referat-am-montag-7453202035577513248.html
LOCATION:Psychiatrie St.Gallen
GEO:47.465440;9.038840
URL:https://eventfrog.de/de/p/wissenschaft-und-technik/wenn-naehe-zur-belastung-wird-referat-am-montag-7453202035577513248.html
END:VEVENT
END:VCALENDAR