BEGIN:VCALENDAR
VERSION:2.0
PRODID:EVENTFROG//EVENT//ICAL
BEGIN:VEVENT
UID:20260424T081949Z-7453202035745285409@eventfrog.de
DTSTAMP:20260424T081949Z
DTSTART:20260529T180000Z
DTEND:20260529T200000Z
SUMMARY:Willi Näf
DESCRIPTION:Willi Näfs liest aus seinem aktuellem Buch.\n\nhttps://eventfrog.de/de/p/theater-buehne/willi-naef-7453202035745285409.html
LOCATION:Besucherzentrum Brauquöll - Brauerei Locher AG
GEO:47.331080;9.412719
URL:https://eventfrog.de/de/p/theater-buehne/willi-naef-7453202035745285409.html
END:VEVENT
END:VCALENDAR