BEGIN:VCALENDAR
VERSION:2.0
PRODID:EVENTFROG//EVENT//ICAL
BEGIN:VEVENT
UID:20260424T081948Z-7453202036085024035@eventfrog.de
DTSTAMP:20260424T081948Z
DTSTART:20260814T183000Z
DTEND:20260814T203000Z
SUMMARY:Openair-Konzert mit Kellerheims
DESCRIPTION:Openair-Konzert mit der Gruppe Kellerheims.\n\nhttps://eventfrog.de/de/p/konzerte/openair-konzert-mit-kellerheims-7453202036085024035.html
LOCATION:Schwimmbad Forren
GEO:47.326554;9.420990
URL:https://eventfrog.de/de/p/konzerte/openair-konzert-mit-kellerheims-7453202036085024035.html
END:VEVENT
END:VCALENDAR