BEGIN:VCALENDAR
VERSION:2.0
PRODID:EVENTFROG//EVENT//ICAL
BEGIN:VEVENT
UID:20260424T093032Z-7453202036256990501@eventfrog.de
DTSTAMP:20260424T093032Z
DTSTART:20260430T170000Z
DTEND:20260430T190000Z
SUMMARY:feminisTTischli Männerfreundschaften
DESCRIPTION:Offener Austausch über Männerfreundschaften.\n\nhttps://eventfrog.de/de/p/diverses/feministtischli-maennerfreundschaften-7453202036256990501.html
LOCATION:GanzOhni Unverpackt + Caffè im Lattich
GEO:47.418187;9.364596
URL:https://eventfrog.de/de/p/diverses/feministtischli-maennerfreundschaften-7453202036256990501.html
END:VEVENT
END:VCALENDAR