BEGIN:VCALENDAR
VERSION:2.0
PRODID:EVENTFROG//EVENT//ICAL
BEGIN:VEVENT
UID:20260424T071509Z-7453202062580446943@eventfrog.de
DTSTAMP:20260424T071509Z
DTSTART:20260427T140000Z
DTEND:20260427T180000Z
SUMMARY:30 Jahre Tüüfner Poscht - Ein Dorf schreibt Geschichte
DESCRIPTION:Ausstellung zum 30-Jahre-Jubiläum der «Tüüfner Poscht».\n\nhttps://eventfrog.de/de/p/wissenschaft-und-technik/30-jahre-tueuefner-poscht-ein-dorf-schreibt-geschichte-7453202062580446943.html
LOCATION:ehem. Schulhaus Dorf
GEO:47.390341;9.387145
URL:https://eventfrog.de/de/p/wissenschaft-und-technik/30-jahre-tueuefner-poscht-ein-dorf-schreibt-geschichte-7453202062580446943.html
END:VEVENT
END:VCALENDAR