BEGIN:VCALENDAR
VERSION:2.0
PRODID:EVENTFROG//EVENT//ICAL
BEGIN:VEVENT
UID:20260424T102110Z-7453310575231113025@eventfrog.de
DTSTAMP:20260424T102110Z
DTSTART:20260503T143000Z
DTEND:20260503T152000Z
SUMMARY:Tanz im Abendgebet
DESCRIPTION:Tanz, Musik und Silja Walters Texte verschmelzen in der Klosterkirche mit dem Gebet der Benediktinerinnen zu einem spirituellen Erlebnis.\n\nhttps://eventfrog.de/de/p/religion-feiertage/gottesdienst/tanz-im-abendgebet-7453310575231113025.html
LOCATION:Kloster Fahr
GEO:47.408737;8.439177
URL:https://eventfrog.de/de/p/religion-feiertage/gottesdienst/tanz-im-abendgebet-7453310575231113025.html
END:VEVENT
END:VCALENDAR