BEGIN:VCALENDAR
VERSION:2.0
PRODID:EVENTFROG//EVENT//ICAL
BEGIN:VEVENT
UID:20260425T232126Z-7453311840728184788@eventfrog.de
DTSTAMP:20260425T232126Z
DTSTART:20260502T130000Z
DTEND:20260502T143000Z
SUMMARY:Aroma Yoga Workshop • Grounding
DESCRIPTION:By pairing specific scents with targeted yoga flows, we create a multi-sensory experience to anchor your physical and emotional well-being.\n\nhttps://eventfrog.de/en/p/sport-fitness/yoga/aroma-yoga-workshop-grounding-7453311840728184788.html
LOCATION:Studio 108 Berlin - Yogastudio & Ayurveda
GEO:52.567359;13.398291
URL:https://eventfrog.de/en/p/sport-fitness/yoga/aroma-yoga-workshop-grounding-7453311840728184788.html
END:VEVENT
END:VCALENDAR