BEGIN:VCALENDAR
VERSION:2.0
PRODID:EVENTFROG//EVENT//ICAL
BEGIN:VEVENT
UID:20260425T164335Z-7453352733912919931@eventfrog.de
DTSTAMP:20260425T164335Z
DTSTART:20260428T140000Z
DTEND:20260428T153000Z
SUMMARY:Informationsveranstaltung zur Vorsorgevollmacht
DESCRIPTION:Kostenfreie Schulungen zur Vorsorgevollmacht mit konkreten Tipps und Formularen für selbstbestimmte Lebensregelung.\n\nhttps://eventfrog.de/de/p/kurse-seminare/sonstige-kurse-seminare/informationsveranstaltung-zur-vorsorgevollmacht-7453352733912919931.html
LOCATION:Mahlsdorfer Str. 61
GEO:52.536354;13.632782
URL:https://eventfrog.de/de/p/kurse-seminare/sonstige-kurse-seminare/informationsveranstaltung-zur-vorsorgevollmacht-7453352733912919931.html
END:VEVENT
END:VCALENDAR