BEGIN:VCALENDAR
VERSION:2.0
PRODID:EVENTFROG//EVENT//ICAL
BEGIN:VEVENT
UID:20260424T164330Z-7453364821536315602@eventfrog.de
DTSTAMP:20260424T164330Z
DTSTART:20260425T060000Z
DTEND:20260425T140000Z
SUMMARY:Grösster Flohmarkt Europaplatz 25.04.2026
DESCRIPTION:Flohmarkt auf dem Europaplatz \n\nhttps://eventfrog.de/de/p/maerkte/flohmarkt/groesster-flohmarkt-europaplatz-25-04-2026-7453364821536315602.html
LOCATION:Europaplatz
GEO:46.947636;7.440433
URL:https://eventfrog.de/de/p/maerkte/flohmarkt/groesster-flohmarkt-europaplatz-25-04-2026-7453364821536315602.html
END:VEVENT
END:VCALENDAR