BEGIN:VCALENDAR
VERSION:2.0
PRODID:EVENTFROG//EVENT//ICAL
BEGIN:VEVENT
UID:20260426T001914Z-7453365411381310693@eventfrog.de
DTSTAMP:20260426T001914Z
DTSTART:20261115T150000Z
DTEND:20261115T170000Z
SUMMARY:„Versprechen des Morgen“
DESCRIPTION:„Versprechen des Morgen“\n\nhttps://eventfrog.de/de/p/klassik-opern/klassik/versprechen-des-morgen-7453365411381310693.html
LOCATION:Kanonenhof
GEO:51.052046;13.745402
URL:https://eventfrog.de/de/p/klassik-opern/klassik/versprechen-des-morgen-7453365411381310693.html
END:VEVENT
END:VCALENDAR