BEGIN:VCALENDAR
VERSION:2.0
PRODID:EVENTFROG//EVENT//ICAL
BEGIN:VEVENT
UID:20260424T151948Z-7453367896233738708@eventfrog.de
DTSTAMP:20260424T151948Z
DTSTART:20270123T183000Z
DTEND:20270123T223000Z
SUMMARY:Abba Dinner Show
DESCRIPTION:Eine Tribute-Band spielt Abba-Hits begleitet von einem 3-Gänge-Buffet und Light-Show für einen unvergesslichen Abend.\n\nhttps://eventfrog.de/de/p/essen-trinken/abba-dinner-show-7453367896233738708.html
LOCATION:Hotel Chemnitzer Hof
GEO:50.838384;12.926131
URL:https://eventfrog.de/de/p/essen-trinken/abba-dinner-show-7453367896233738708.html
END:VEVENT
END:VCALENDAR