BEGIN:VCALENDAR
VERSION:2.0
PRODID:EVENTFROG//EVENT//ICAL
BEGIN:VEVENT
UID:20260424T160408Z-7453375193169266240@eventfrog.de
DTSTAMP:20260424T160408Z
DTSTART:20260625T120000Z
DTEND:20260625T180000Z
SUMMARY:Summer-Kunschti
DESCRIPTION:Entdecke eine bunte Welt aus Sport, Spiel und Spass auf der Kunsteisbahn Margarethen. Heute mit Grill - Grill vorhanden, Essen & Trinken selber mitbringen.\n\nhttps://eventfrog.de/de/p/kinderveranstaltungen/familienveranstaltungen/summer-kunschti-7453375193169266240.html
LOCATION:Kunsteisbahn Margarethen
GEO:47.540713;7.586089
URL:https://eventfrog.de/de/p/kinderveranstaltungen/familienveranstaltungen/summer-kunschti-7453375193169266240.html
END:VEVENT
END:VCALENDAR