BEGIN:VCALENDAR
VERSION:2.0
PRODID:EVENTFROG//EVENT//ICAL
BEGIN:VEVENT
UID:20260424T190555Z-7453399979970852919@eventfrog.de
DTSTAMP:20260424T190555Z
DTSTART:20260509T183000Z
DTEND:20260509T230000Z
SUMMARY:GlobalDance, Hermanos Perdidos, World, Latin, Cumbia
DESCRIPTION:Hermanos Perdidos spielen tanzbare World-Latin-Punk Songs im Rebajada-Stil mit melancholischen, gesellschaftskritischen Texten.\n\nhttps://eventfrog.de/de/p/konzerte/latin/globaldance-hermanos-perdidos-world-latin-cumbia-7453399979970852919.html
LOCATION:Lok.al
GEO:47.494262;8.734270
URL:https://eventfrog.de/de/p/konzerte/latin/globaldance-hermanos-perdidos-world-latin-cumbia-7453399979970852919.html
END:VEVENT
END:VCALENDAR