BEGIN:VCALENDAR
VERSION:2.0
PRODID:EVENTFROG//EVENT//ICAL
BEGIN:VEVENT
UID:20260424T192425Z-7453417975569236825@eventfrog.de
DTSTAMP:20260424T192425Z
DTSTART:20260504T170000Z
DTEND:20260504T190000Z
SUMMARY:Freies Zeichnen mit Tim und Rahel
DESCRIPTION:Freies Zeichnen mit Rahel Tonini und Tim Hochueli im Kunstmuseum Olten, ein Angebot für Erwachsene und Jugendliche ab 16 Jahren, Kosten: 20.- CHF / Person (inkl. Material)\n\nhttps://eventfrog.de/de/p/kunst-ausstellungen/weitere-kunstveranstaltungen/freies-zeichnen-mit-tim-und-rahel-7453417975569236825.html
LOCATION:Kunstmuseum Olten
GEO:47.349985;7.901622
URL:https://eventfrog.de/de/p/kunst-ausstellungen/weitere-kunstveranstaltungen/freies-zeichnen-mit-tim-und-rahel-7453417975569236825.html
END:VEVENT
END:VCALENDAR