BEGIN:VCALENDAR
VERSION:2.0
PRODID:EVENTFROG//EVENT//ICAL
BEGIN:VEVENT
UID:20260426T013435Z-7453422845709830478@eventfrog.de
DTSTAMP:20260426T013435Z
DTSTART:20260510T120000Z
DTEND:20260510T150000Z
SUMMARY:Zwei Ausstellungen in der Villa Wild
DESCRIPTION:Christiane Hinrichs und Ueli Strebel verwandeln die Villa Wild mit ihren Licht- und Foto-Installationen in einen spannenden Ausstellungsort. \n\nhttps://eventfrog.de/de/p/kunst-ausstellungen/ausstellung/zwei-ausstellungen-in-der-villa-wild-7453422845709830478.html
LOCATION:Kunsthaus Villa Wild
GEO:47.276268;8.339623
URL:https://eventfrog.de/de/p/kunst-ausstellungen/ausstellung/zwei-ausstellungen-in-der-villa-wild-7453422845709830478.html
END:VEVENT
END:VCALENDAR