BEGIN:VCALENDAR
VERSION:2.0
PRODID:EVENTFROG//EVENT//ICAL
BEGIN:VEVENT
UID:20260425T132336Z-7453424374479070926@eventfrog.de
DTSTAMP:20260425T132336Z
DTSTART:20260513T210000Z
DTEND:20260514T020000Z
SUMMARY:EL MATADOR LIVE @ Le Ciel
DESCRIPTION:El matador live le ciel\n\nhttps://eventfrog.de/de/p/partys/mottoparty/el-matador-live-le-ciel-7453424374479070926.html
LOCATION:Le Ciel Club
GEO:46.951425;7.441316
URL:https://eventfrog.de/de/p/partys/mottoparty/el-matador-live-le-ciel-7453424374479070926.html
END:VEVENT
END:VCALENDAR