BEGIN:VCALENDAR
VERSION:2.0
PRODID:EVENTFROG//EVENT//ICAL
BEGIN:VEVENT
UID:20260426T000802Z-7453431954920211792@eventfrog.de
DTSTAMP:20260426T000802Z
DTSTART:20260530T110000Z
DTEND:20260530T150000Z
SUMMARY:Tag der offenen Tür, magenta
DESCRIPTION:Spüren, was möglich ist. Entdecken, was in Ihnen steckt. Erleben Sie unsere Aus- und Weiterbildungen nicht nur theoretisch, sondern ganz konkret - in Begegnungen, Gesprächen und Mini-Workshops. Lassen\n\nhttps://eventfrog.de/de/p/kurse-seminare/berufliche-bildung/tag-der-offenen-tuer-magenta-7453431954920211792.html
LOCATION:magenta Akademie GmbH
GEO:47.240778;7.968320
URL:https://eventfrog.de/de/p/kurse-seminare/berufliche-bildung/tag-der-offenen-tuer-magenta-7453431954920211792.html
END:VEVENT
END:VCALENDAR