BEGIN:VCALENDAR
VERSION:2.0
PRODID:EVENTFROG//EVENT//ICAL
BEGIN:VEVENT
UID:20260426T011114Z-7453438318157561601@eventfrog.de
DTSTAMP:20260426T011114Z
DTSTART:20260510T120000Z
DTEND:20260510T160000Z
SUMMARY:SPIGAR Würdigung seines Schaffens
DESCRIPTION:Der bekannte Rheintaler Künstler SPIGAR stellt im Kulturraum Stellwerk Heerbrugg aus. Unverkennbar sind seine tanzenden Figuren.\n\nhttps://eventfrog.de/de/p/kunst-ausstellungen/kultur/spigar-wuerdigung-seines-schaffens-7453438318157561601.html
LOCATION:Kulturraum Stellwerk Heerbrugg
GEO:47.411361;9.629330
URL:https://eventfrog.de/de/p/kunst-ausstellungen/kultur/spigar-wuerdigung-seines-schaffens-7453438318157561601.html
END:VEVENT
END:VCALENDAR