BEGIN:VCALENDAR
VERSION:2.0
PRODID:EVENTFROG//EVENT//ICAL
BEGIN:VEVENT
UID:20260425T115733Z-7453443647326946615@eventfrog.de
DTSTAMP:20260425T115733Z
DTSTART:20260505T160000Z
DTEND:20260505T180000Z
SUMMARY:Vernissage Sammlung Martin und Veronika Burckhardt
DESCRIPTION:Sammlung Martin und Veronika Burckhardt - Von privaten Schätzen und öffentlichem Engagement.\nMit Werken der Erbengemeinschaft sowie aus dem Karl August Burckhardt-Koechlin-Fonds im Kupferstichkabinett\n\nhttps://eventfrog.de/de/p/kunst-ausstellungen/vernissage/vernissage-sammlung-martin-und-veronika-burckhardt-7453443647326946615.html
LOCATION:FOR ART - eine temporäre Kunstintervention von Littmann Kulturprojekte
GEO:47.555291;7.593660
URL:https://eventfrog.de/de/p/kunst-ausstellungen/vernissage/vernissage-sammlung-martin-und-veronika-burckhardt-7453443647326946615.html
END:VEVENT
END:VCALENDAR