BEGIN:VCALENDAR
VERSION:2.0
PRODID:EVENTFROG//EVENT//ICAL
BEGIN:VEVENT
UID:20260424T190226Z-7453445506020211868@eventfrog.de
DTSTAMP:20260424T190226Z
DTSTART:20260520T101500Z
SUMMARY:Kunst zum Zmittag
DESCRIPTION:Kunst zum Zmittag ist eine halbstündige Mittagsführung durch die Ausstellung "Hinterm Horizont geht's weiter" mit anschliessendem 3-Gang-Menü, gekocht vom Basler Künstler Chris Hunter\n\nhttps://eventfrog.de/de/p/kunst-ausstellungen/weitere-kunstveranstaltungen/kunst-zum-zmittag-7453445506020211868.html
LOCATION:Kunstmuseum Olten
GEO:47.349985;7.901622
URL:https://eventfrog.de/de/p/kunst-ausstellungen/weitere-kunstveranstaltungen/kunst-zum-zmittag-7453445506020211868.html
END:VEVENT
END:VCALENDAR