BEGIN:VCALENDAR
VERSION:2.0
PRODID:EVENTFROG//EVENT//ICAL
BEGIN:VEVENT
UID:20260425T122002Z-7453446768140804710@eventfrog.de
DTSTAMP:20260425T122002Z
DTSTART:20260624T110000Z
DTEND:20260624T123000Z
SUMMARY:PEKiP (Okt / Nov / Dez 25 + Jän 2026) VA34
DESCRIPTION:Kuschelige Wärme im Babyraum in Maria Enzersdorf; Bewegung und Entwicklungsförderung für Babys; Austausch für Eltern; Babys erleben soziale Kontakte und regen sich gegenseitig an.\n\nhttps://eventfrog.de/de/p/kurse-seminare/familienweiterbildung/pekip-okt-nov-dez-25-jaen-2026-va34-7453446768140804710.html
LOCATION:Kids&co Familienzentrum Maria Enzersdorf
GEO:48.100805;16.280810
URL:https://eventfrog.de/de/p/kurse-seminare/familienweiterbildung/pekip-okt-nov-dez-25-jaen-2026-va34-7453446768140804710.html
END:VEVENT
END:VCALENDAR